BEGIN:VCALENDAR
VERSION:2.0
PRODID:-//hacksw/handcal//NONSGML v1.0//EN
BEGIN:VEVENT
SUMMARY:Entrainement du 07/04/2026
UID:9adbf413-a95f-48be-ad7a-df913e6694e4
DTSTART:20260407T163000Z
DTEND:20260407T174500Z
LOCATION:Espace Michel Crepeau Rue de Lauzieres 17137 Nieul-sur-Mer
CATEGORIES:Entrainement
STATUS:
DESCRIPTION:<p>Echauffement 20m<br>
 2 series de 6 x 45s/45s a
 100%<br>
 3mn entre les series<br>
 Retour footing 10mn</p>
URL;VALUE=URI:https://www.nieulairpur.com/evenements/2026/04/07/entrainement-du-07042026-2438576
END:VEVENT
END:VCALENDAR
