BEGIN:VCALENDAR
VERSION:2.0
PRODID:-//hacksw/handcal//NONSGML v1.0//EN
BEGIN:VEVENT
SUMMARY:Entrainement du 08/04/2026
UID:bf60555b-cc83-4f98-bff6-082584c41eb6
DTSTART:20260407T220000Z
DTEND:20260408T220000Z
LOCATION:Localisation   
CATEGORIES:Entrainement
STATUS:
DESCRIPTION:<p>Footing 45mn</p>
URL;VALUE=URI:https://www.nieulairpur.com/evenements/2026/04/08/entrainement-du-08042026-2438577
END:VEVENT
END:VCALENDAR
