BEGIN:VCALENDAR
VERSION:2.0
PRODID:-//hacksw/handcal//NONSGML v1.0//EN
BEGIN:VEVENT
SUMMARY:Entrainement du 09/04/2026
UID:4cff8c27-4509-45f3-a2b7-f8bf5e407e68
DTSTART:20260409T163000Z
DTEND:20260409T180000Z
LOCATION:Espace Michel Crepeau Rue de Lauzieres 17137 Nieul-sur-Mer
CATEGORIES:Entrainement
STATUS:
DESCRIPTION:<p>20mn facile (echauffement, 60%)<br>
 10mn a
 80/85%<br>
 10mn facile (60%)<br>
 10mn a 80/85%<br>
 Retour footing
 10mn</p>
URL;VALUE=URI:https://www.nieulairpur.com/evenements/2026/04/09/entrainement-du-09042026-2438580
END:VEVENT
END:VCALENDAR
