BEGIN:VCALENDAR
VERSION:2.0
PRODID:-//hacksw/handcal//NONSGML v1.0//EN
BEGIN:VEVENT
SUMMARY:Entrainement du 14/04/2026
UID:6f42d643-53cd-4cf2-9b40-c9448acb5a17
DTSTART:20260414T163000Z
DTEND:20260414T174500Z
LOCATION:Espace Michel Crepeau Rue de Lauzieres 17137 Nieul-sur-Mer
CATEGORIES:Entrainement
STATUS:
DESCRIPTION:<p>Echauffement 20m<br>
 2 series de 8 cotes en 30s a
 100%<br>
 Recupe en descente<br>
 3mn entre les series<br>
 Retour
 footing 10mn</p>
URL;VALUE=URI:https://www.nieulairpur.com/evenements/2026/04/14/entrainement-du-14042026-2440607
END:VEVENT
END:VCALENDAR
