BEGIN:VCALENDAR
VERSION:2.0
PRODID:-//hacksw/handcal//NONSGML v1.0//EN
BEGIN:VEVENT
SUMMARY:Entrainement du 15/04/2026
UID:448c561a-8063-4da0-b8fb-618e077056b2
DTSTART:20260414T220000Z
DTEND:20260415T220000Z
LOCATION:Localisation   
CATEGORIES:Entrainement
STATUS:
DESCRIPTION:<p>Footing 45mn</p>
URL;VALUE=URI:https://www.nieulairpur.com/evenements/2026/04/15/entrainement-du-15042026-2440611
END:VEVENT
END:VCALENDAR
