BEGIN:VCALENDAR
VERSION:2.0
PRODID:-//hacksw/handcal//NONSGML v1.0//EN
BEGIN:VEVENT
SUMMARY:Entrainement du 16/04/2026
UID:3876aa08-20c5-4968-8ef0-2ca60c527805
DTSTART:20260416T163000Z
DTEND:20260416T180000Z
LOCATION:Espace Michel Crepeau Rue de Lauzieres 17137 Nieul-sur-Mer
CATEGORIES:Entrainement
STATUS:
DESCRIPTION:<p>Echauffement 20m<br>
 12mn / 10mn / 8mn a 80/85% (si
 possible en terrain vallonne)<br>
 3mn entre chaque
 fraction<br>
 Retour footing 10mn</p>
URL;VALUE=URI:https://www.nieulairpur.com/evenements/2026/04/16/entrainement-du-16042026-2440614
END:VEVENT
END:VCALENDAR
