BEGIN:VCALENDAR
VERSION:2.0
PRODID:-//hacksw/handcal//NONSGML v1.0//EN
BEGIN:VEVENT
SUMMARY:Entrainement du 19/04/2026
UID:942cf661-7604-49da-8f37-18cd739bbb93
DTSTART:20260418T220000Z
DTEND:20260419T220000Z
LOCATION:Localisation   
CATEGORIES:Entrainement
STATUS:
DESCRIPTION:<p>Sortie longue 1h30 (si possible en terrain
 vallonne)</p>
URL;VALUE=URI:https://www.nieulairpur.com/evenements/2026/04/19/entrainement-du-19042026-2440616
END:VEVENT
END:VCALENDAR
